BEGIN:VCALENDAR
VERSION:2.0
PRODID:Westsite CDCP, Data::ICal 0.24
BEGIN:VEVENT
DESCRIPTION:Ledegem "Ledegem Kemmel Ledegem"
DTEND;TZID=Europe/Brussels:20260622
DTSTART;TZID=Europe/Brussels:20260621
GEO:50.8584409;3.1237406
LOCATION:Stastionstraat 126\, 8880 Ledegem\, België
ORGANIZER:VZW KWSC Menen
SUMMARY:Ledegem "Ledegem Kemmel Ledegem"
URL:https://www.signaalgevers.org/nl/event/Ledegem-Kemmel-Ledegem
END:VEVENT
END:VCALENDAR
