BEGIN:VCALENDAR
VERSION:2.0
PRODID:Westsite CDCP, Data::ICal 0.24
BEGIN:VEVENT
DESCRIPTION:Diksmuide "Iron Boy/Girl"
DTEND;TZID=Europe/Brussels:20260507
DTSTART;TZID=Europe/Brussels:20260506
GEO:51.0259684;2.8689849
LOCATION:Pluimstraat 18\, 8600 Diksmuide\, België
ORGANIZER:Sportdienst Diksmuide
SUMMARY:Diksmuide "Iron Boy/Girl"
URL:https://www.signaalgevers.org/nl/event/124
END:VEVENT
END:VCALENDAR
